BEGIN:VCALENDAR
VERSION:2.0
PRODID:-//Effingham Health System - ECPv5.8.2//NONSGML v1.0//EN
CALSCALE:GREGORIAN
METHOD:PUBLISH
X-WR-CALNAME:Effingham Health System
X-ORIGINAL-URL:https://www.effinghamhealth.org
X-WR-CALDESC:Events for Effingham Health System
BEGIN:VTIMEZONE
TZID:UTC
BEGIN:STANDARD
TZOFFSETFROM:+0000
TZOFFSETTO:+0000
TZNAME:UTC
DTSTART:20170101T000000
END:STANDARD
END:VTIMEZONE
BEGIN:VEVENT
DTSTART;VALUE=DATE:20170601
DTEND;VALUE=DATE:20170701
DTSTAMP:20211018T063521
CREATED:20170521T232405Z
LAST-MODIFIED:20170521T232405Z
UID:536-1496275200-1498867199@www.effinghamhealth.org
SUMMARY:Men's Health Month
DESCRIPTION:Just in time for Father’s day. A reminder of just how important your health is to you and your family!
URL:https://www.effinghamhealth.org/event/mens-health-month/
END:VEVENT
END:VCALENDAR