BEGIN:VCALENDAR
VERSION:2.0
PRODID:-//Effingham Health System - ECPv5.8.2//NONSGML v1.0//EN
CALSCALE:GREGORIAN
METHOD:PUBLISH
X-WR-CALNAME:Effingham Health System
X-ORIGINAL-URL:https://www.effinghamhealth.org
X-WR-CALDESC:Events for Effingham Health System
BEGIN:VTIMEZONE
TZID:UTC
BEGIN:STANDARD
TZOFFSETFROM:+0000
TZOFFSETTO:+0000
TZNAME:UTC
DTSTART:20170101T000000
END:STANDARD
END:VTIMEZONE
BEGIN:VEVENT
DTSTART;VALUE=DATE:20170405
DTEND;VALUE=DATE:20170406
DTSTAMP:20211018T063347
CREATED:20170203T002329Z
LAST-MODIFIED:20170203T002329Z
UID:41-1491350400-1491436799@www.effinghamhealth.org
SUMMARY:So Many Events
DESCRIPTION:Yet another event. Yet another event. Yet another event. Yet another event. Yet another event. Yet another event. \nYet another event. Yet another event. Yet another event. Yet another event. Yet another event. Yet another event. Yet another event. Yet another event.
URL:https://www.effinghamhealth.org/event/so-many-events/
LOCATION:Sample Venue\, 1 Sample St\, Savannah\, 31401\, United States
CATEGORIES:Sample
END:VEVENT
END:VCALENDAR