BEGIN:VCALENDAR
VERSION:2.0
PRODID:-//Effingham Health System - ECPv5.8.2//NONSGML v1.0//EN
CALSCALE:GREGORIAN
METHOD:PUBLISH
X-WR-CALNAME:Effingham Health System
X-ORIGINAL-URL:https://www.effinghamhealth.org
X-WR-CALDESC:Events for Effingham Health System
BEGIN:VTIMEZONE
TZID:America/New_York
BEGIN:DAYLIGHT
TZOFFSETFROM:-0500
TZOFFSETTO:-0400
TZNAME:EDT
DTSTART:20200308T070000
END:DAYLIGHT
BEGIN:STANDARD
TZOFFSETFROM:-0400
TZOFFSETTO:-0500
TZNAME:EST
DTSTART:20201101T060000
END:STANDARD
END:VTIMEZONE
BEGIN:VEVENT
DTSTART;TZID=America/New_York:20201001T080000
DTEND;TZID=America/New_York:20201031T170000
DTSTAMP:20211021T124411
CREATED:20201005T205652Z
LAST-MODIFIED:20201005T210052Z
UID:6350-1601539200-1604163600@www.effinghamhealth.org
SUMMARY:Schedule Your 3D Mammogram!
DESCRIPTION:It’s October—Breast Cancer Awareness Month. The perfect time to schedule your annual mammogram. EHS offers 3D mammograms\, which are 40% more accurate. Call now to schedule yours: 912-826-1400.
URL:https://www.effinghamhealth.org/event/schedule-your-3d-mammogram/
END:VEVENT
END:VCALENDAR