BEGIN:VCALENDAR
VERSION:2.0
PRODID:-//Effingham Health System - ECPv5.8.2//NONSGML v1.0//EN
CALSCALE:GREGORIAN
METHOD:PUBLISH
X-WR-CALNAME:Effingham Health System
X-ORIGINAL-URL:https://www.effinghamhealth.org
X-WR-CALDESC:Events for Effingham Health System
BEGIN:VTIMEZONE
TZID:America/New_York
BEGIN:DAYLIGHT
TZOFFSETFROM:-0500
TZOFFSETTO:-0400
TZNAME:EDT
DTSTART:20210314T070000
END:DAYLIGHT
BEGIN:STANDARD
TZOFFSETFROM:-0400
TZOFFSETTO:-0500
TZNAME:EST
DTSTART:20211107T060000
END:STANDARD
END:VTIMEZONE
BEGIN:VEVENT
DTSTART;TZID=America/New_York:20210525T080000
DTEND;TZID=America/New_York:20210525T170000
DTSTAMP:20211020T115223
CREATED:20210525T174220Z
LAST-MODIFIED:20210525T174220Z
UID:6944-1621929600-1621962000@www.effinghamhealth.org
SUMMARY:May Board Meeting
DESCRIPTION:EHI Board of Directors Virtual Meeting\nTue\, May 25\, 2021 5:30 PM – 8:30 PM (EDT) \nPlease dial in using your phone.\nUnited States (Toll Free): 1 866 899 4679\nAccess Code: 203-270-805\nEffingham Health System Board Meetings are open to the public. Please use the dial-in information above to join the virtual meeting.
URL:https://www.effinghamhealth.org/event/may-board-meeting/
END:VEVENT
END:VCALENDAR